BEGIN:VCALENDAR
VERSION:2.0
PRODID:-//NetAuktion//NONSGML NetAuktion//SV
METHOD:PUBLISH
BEGIN:VEVENT
UID:20260421T103005-1641260351-netauktion.se
DTSTAMP:20260421T103005
DTSTART:20181031T020500
DTEND:20181031T020800
SUMMARY:Netauktion objekt 3551-047 Auktionspåminnelse
DESCRIPTION:Länk till objektet du var intresserad av: https://staging.netauktion.se/auktion/produkt/deco-v-shaped-cup-a-black-21-cl-ca-60st-12
END:VEVENT
END:VCALENDAR
