BEGIN:VCALENDAR
VERSION:2.0
PRODID:-//NetAuktion//NONSGML NetAuktion//SV
METHOD:PUBLISH
BEGIN:VEVENT
UID:20260421T104604-2137871683-netauktion.se
DTSTAMP:20260421T104604
DTSTART:20181031T021700
DTEND:20181031T022000
SUMMARY:Netauktion objekt 3551-048 Auktionspåminnelse
DESCRIPTION:Länk till objektet du var intresserad av: https://staging.netauktion.se/auktion/produkt/winged-tallrik-fr-anton-black-31-cm-ca-36st-4
END:VEVENT
END:VCALENDAR
