BEGIN:VCALENDAR
VERSION:2.0
PRODID:-//NetAuktion//NONSGML NetAuktion//SV
METHOD:PUBLISH
BEGIN:VEVENT
UID:20260421T104445-985155589-netauktion.se
DTSTAMP:20260421T104445
DTSTART:20080924T005800
DTEND:20080924T010100
SUMMARY:Netauktion objekt 0090-002 Auktionspåminnelse
DESCRIPTION:Länk till objektet du var intresserad av: https://staging.netauktion.se/auktion/produkt/vals-filmtvatt-hans-luth
END:VEVENT
END:VCALENDAR
