BEGIN:VCALENDAR
VERSION:2.0
PRODID:-//NetAuktion//NONSGML NetAuktion//SV
METHOD:PUBLISH
BEGIN:VEVENT
UID:20260421T104359-1697999021-netauktion.se
DTSTAMP:20260421T104359
DTSTART:20080924T010100
DTEND:20080924T010400
SUMMARY:Netauktion objekt 0097-003 Auktionspåminnelse
DESCRIPTION:Länk till objektet du var intresserad av: https://staging.netauktion.se/auktion/produkt/50-tal-grafiska-blad-av-carl-larson-mfl
END:VEVENT
END:VCALENDAR
