BEGIN:VCALENDAR
VERSION:2.0
PRODID:-//NetAuktion//NONSGML NetAuktion//SV
METHOD:PUBLISH
BEGIN:VEVENT
UID:20260421T104444-1094868563-netauktion.se
DTSTAMP:20260421T104444
DTSTART:20080924T010500
DTEND:20080924T010800
SUMMARY:Netauktion objekt 0097-006 Auktionspåminnelse
DESCRIPTION:Länk till objektet du var intresserad av: https://staging.netauktion.se/auktion/produkt/kontorsmobler-i-morkt-och-ljust-tra
END:VEVENT
END:VCALENDAR
