BEGIN:VCALENDAR
VERSION:2.0
PRODID:-//NetAuktion//NONSGML NetAuktion//SV
METHOD:PUBLISH
BEGIN:VEVENT
UID:20260421T102802-1253247910-netauktion.se
DTSTAMP:20260421T102802
DTSTART:20080924T010400
DTEND:20080924T010700
SUMMARY:Netauktion objekt 0097-007 Auktionspåminnelse
DESCRIPTION:Länk till objektet du var intresserad av: https://staging.netauktion.se/auktion/produkt/kontorsstol-labbstol-julsaker-mm
END:VEVENT
END:VCALENDAR
