BEGIN:VCALENDAR
VERSION:2.0
PRODID:-//NetAuktion//NONSGML NetAuktion//SV
METHOD:PUBLISH
BEGIN:VEVENT
UID:20260421T104444-880540514-netauktion.se
DTSTAMP:20260421T104444
DTSTART:20181130T031600
DTEND:20181130T031900
SUMMARY:Netauktion objekt 3690-093 Auktionspåminnelse
DESCRIPTION:Länk till objektet du var intresserad av: https://staging.netauktion.se/auktion/produkt/hdmi-usb-tele-kabel-mm
END:VEVENT
END:VCALENDAR
