BEGIN:VCALENDAR
VERSION:2.0
PRODID:-//NetAuktion//NONSGML NetAuktion//SV
METHOD:PUBLISH
BEGIN:VEVENT
UID:20260421T104603-889608581-netauktion.se
DTSTAMP:20260421T104603
DTSTART:20181130T032100
DTEND:20181130T032400
SUMMARY:Netauktion objekt 3690-100 Auktionspåminnelse
DESCRIPTION:Länk till objektet du var intresserad av: https://staging.netauktion.se/auktion/produkt/olika-forvaringslador-9st
END:VEVENT
END:VCALENDAR
