BEGIN:VCALENDAR
VERSION:2.0
PRODID:-//NetAuktion//NONSGML NetAuktion//SV
METHOD:PUBLISH
BEGIN:VEVENT
UID:20260421T103138-1705224945-netauktion.se
DTSTAMP:20260421T103138
DTSTART:20181130T035700
DTEND:20181130T040000
SUMMARY:Netauktion objekt 3690-128 Auktionspåminnelse
DESCRIPTION:Länk till objektet du var intresserad av: https://staging.netauktion.se/auktion/produkt/sackkarra-7
END:VEVENT
END:VCALENDAR
