BEGIN:VCALENDAR
VERSION:2.0
PRODID:-//NetAuktion//NONSGML NetAuktion//SV
METHOD:PUBLISH
BEGIN:VEVENT
UID:20260421T103138-743659547-netauktion.se
DTSTAMP:20260421T103138
DTSTART:20181130T032500
DTEND:20181130T032800
SUMMARY:Netauktion objekt 3690-131 Auktionspåminnelse
DESCRIPTION:Länk till objektet du var intresserad av: https://staging.netauktion.se/auktion/produkt/skarvakbel-230v
END:VEVENT
END:VCALENDAR
