BEGIN:VCALENDAR
VERSION:2.0
PRODID:-//NetAuktion//NONSGML NetAuktion//SV
METHOD:PUBLISH
BEGIN:VEVENT
UID:20260421T103135-273713553-netauktion.se
DTSTAMP:20260421T103135
DTSTART:20181130T032400
DTEND:20181130T032700
SUMMARY:Netauktion objekt 3690-133 Auktionspåminnelse
DESCRIPTION:Länk till objektet du var intresserad av: https://staging.netauktion.se/auktion/produkt/apparatkabel-2
END:VEVENT
END:VCALENDAR
