BEGIN:VCALENDAR
VERSION:2.0
PRODID:-//NetAuktion//NONSGML NetAuktion//SV
METHOD:PUBLISH
BEGIN:VEVENT
UID:20260421T103004-1182036306-netauktion.se
DTSTAMP:20260421T103004
DTSTART:20181130T034600
DTEND:20181130T034900
SUMMARY:Netauktion objekt 3690-111 Auktionspåminnelse
DESCRIPTION:Länk till objektet du var intresserad av: https://staging.netauktion.se/auktion/produkt/dator-monitor-hogtalare
END:VEVENT
END:VCALENDAR
