BEGIN:VCALENDAR
VERSION:2.0
PRODID:-//NetAuktion//NONSGML NetAuktion//SV
METHOD:PUBLISH
BEGIN:VEVENT
UID:20260421T104615-609344088-netauktion.se
DTSTAMP:20260421T104615
DTSTART:20181130T034800
DTEND:20181130T035100
SUMMARY:Netauktion objekt 3690-113 Auktionspåminnelse
DESCRIPTION:Länk till objektet du var intresserad av: https://staging.netauktion.se/auktion/produkt/skrivbord-stol-rullhallare
END:VEVENT
END:VCALENDAR
