BEGIN:VCALENDAR
VERSION:2.0
PRODID:-//NetAuktion//NONSGML NetAuktion//SV
METHOD:PUBLISH
BEGIN:VEVENT
UID:20260421T104536-778710336-netauktion.se
DTSTAMP:20260421T104536
DTSTART:20181130T035200
DTEND:20181130T035500
SUMMARY:Netauktion objekt 3690-121 Auktionspåminnelse
DESCRIPTION:Länk till objektet du var intresserad av: https://staging.netauktion.se/auktion/produkt/skrivare-hp-laserjet-m277dw
END:VEVENT
END:VCALENDAR
