BEGIN:VCALENDAR
VERSION:2.0
PRODID:-//NetAuktion//NONSGML NetAuktion//SV
METHOD:PUBLISH
BEGIN:VEVENT
UID:20260421T103129-521745189-netauktion.se
DTSTAMP:20260421T103129
DTSTART:20181130T035300
DTEND:20181130T035600
SUMMARY:Netauktion objekt 3690-122 Auktionspåminnelse
DESCRIPTION:Länk till objektet du var intresserad av: https://staging.netauktion.se/auktion/produkt/bankdiskmaskin-mikrovagsugn
END:VEVENT
END:VCALENDAR
