BEGIN:VCALENDAR
VERSION:2.0
PRODID:-//NetAuktion//NONSGML NetAuktion//SV
METHOD:PUBLISH
BEGIN:VEVENT
UID:20260421T103135-1253736677-netauktion.se
DTSTAMP:20260421T103135
DTSTART:20181130T035400
DTEND:20181130T035700
SUMMARY:Netauktion objekt 3690-123 Auktionspåminnelse
DESCRIPTION:Länk till objektet du var intresserad av: https://staging.netauktion.se/auktion/produkt/omkladnadsskap-10
END:VEVENT
END:VCALENDAR
