BEGIN:VCALENDAR
VERSION:2.0
PRODID:-//NetAuktion//NONSGML NetAuktion//SV
METHOD:PUBLISH
BEGIN:VEVENT
UID:20260421T104428-27063404-netauktion.se
DTSTAMP:20260421T104428
DTSTART:20080924T011100
DTEND:20080924T011400
SUMMARY:Netauktion objekt 0097-013 Auktionspåminnelse
DESCRIPTION:Länk till objektet du var intresserad av: https://staging.netauktion.se/auktion/produkt/flaktutsug-med-kanalflakt
END:VEVENT
END:VCALENDAR
