BEGIN:VCALENDAR
VERSION:2.0
PRODID:-//NetAuktion//NONSGML NetAuktion//SV
METHOD:PUBLISH
BEGIN:VEVENT
UID:20260421T104319-1279243122-netauktion.se
DTSTAMP:20260421T104319
DTSTART:20080924T011400
DTEND:20080924T011700
SUMMARY:Netauktion objekt 0097-016 Auktionspåminnelse
DESCRIPTION:Länk till objektet du var intresserad av: https://staging.netauktion.se/auktion/produkt/servercabinet-19-i-plat-datautrustning
END:VEVENT
END:VCALENDAR
