BEGIN:VCALENDAR
VERSION:2.0
PRODID:-//NetAuktion//NONSGML NetAuktion//SV
METHOD:PUBLISH
BEGIN:VEVENT
UID:20260421T104535-869009788-netauktion.se
DTSTAMP:20260421T104535
DTSTART:20190201T015000
DTEND:20190201T015300
SUMMARY:Netauktion objekt 3706-004 Auktionspåminnelse
DESCRIPTION:Länk till objektet du var intresserad av: https://staging.netauktion.se/auktion/produkt/mejselhammare-hitachi-h45mey-1150w-4
END:VEVENT
END:VCALENDAR
