BEGIN:VCALENDAR
VERSION:2.0
PRODID:-//NetAuktion//NONSGML NetAuktion//SV
METHOD:PUBLISH
BEGIN:VEVENT
UID:20260421T104619-688896099-netauktion.se
DTSTAMP:20260421T104619
DTSTART:20181228T035200
DTEND:20181228T035500
SUMMARY:Netauktion objekt 3335-023 Auktionspåminnelse
DESCRIPTION:Länk till objektet du var intresserad av: https://staging.netauktion.se/auktion/produkt/vibrationsplatta-vibmaster-5-7-11-3
END:VEVENT
END:VCALENDAR
