BEGIN:VCALENDAR
VERSION:2.0
PRODID:-//NetAuktion//NONSGML NetAuktion//SV
METHOD:PUBLISH
BEGIN:VEVENT
UID:20260421T104531-1996289979-netauktion.se
DTSTAMP:20260421T104531
DTSTART:20190131T032000
DTEND:20190131T032300
SUMMARY:Netauktion objekt 3702-139 Auktionspåminnelse
DESCRIPTION:Länk till objektet du var intresserad av: https://staging.netauktion.se/auktion/produkt/gaddbete-rip-seeker-och-big-bandit-7
END:VEVENT
END:VCALENDAR
