BEGIN:VCALENDAR
VERSION:2.0
PRODID:-//NetAuktion//NONSGML NetAuktion//SV
METHOD:PUBLISH
BEGIN:VEVENT
UID:20260421T104700-797742946-netauktion.se
DTSTAMP:20260421T104700
DTSTART:20190131T034800
DTEND:20190131T035100
SUMMARY:Netauktion objekt 3702-141 Auktionspåminnelse
DESCRIPTION:Länk till objektet du var intresserad av: https://staging.netauktion.se/auktion/produkt/gaddbete-rip-seeker-och-big-bandit-9
END:VEVENT
END:VCALENDAR
