BEGIN:VCALENDAR
VERSION:2.0
PRODID:-//NetAuktion//NONSGML NetAuktion//SV
METHOD:PUBLISH
BEGIN:VEVENT
UID:20260421T103256-227404159-netauktion.se
DTSTAMP:20260421T103256
DTSTART:20190131T032200
DTEND:20190131T032500
SUMMARY:Netauktion objekt 3702-156 Auktionspåminnelse
DESCRIPTION:Länk till objektet du var intresserad av: https://staging.netauktion.se/auktion/produkt/lax-och-oringbete-challanger-paket-7
END:VEVENT
END:VCALENDAR
