BEGIN:VCALENDAR
VERSION:2.0
PRODID:-//NetAuktion//NONSGML NetAuktion//SV
METHOD:PUBLISH
BEGIN:VEVENT
UID:20260421T103006-2108006012-netauktion.se
DTSTAMP:20260421T103006
DTSTART:20181228T022800
DTEND:20181228T023100
SUMMARY:Netauktion objekt 3714-004 Auktionspåminnelse
DESCRIPTION:Länk till objektet du var intresserad av: https://staging.netauktion.se/auktion/produkt/dryckautomat-vendo-pepsi
END:VEVENT
END:VCALENDAR
