BEGIN:VCALENDAR
VERSION:2.0
PRODID:-//NetAuktion//NONSGML NetAuktion//SV
METHOD:PUBLISH
BEGIN:VEVENT
UID:20260421T102953-1339801554-netauktion.se
DTSTAMP:20260421T102953
DTSTART:20181228T023200
DTEND:20181228T023500
SUMMARY:Netauktion objekt 3714-008 Auktionspåminnelse
DESCRIPTION:Länk till objektet du var intresserad av: https://staging.netauktion.se/auktion/produkt/varuautomat-wurlitzer-2
END:VEVENT
END:VCALENDAR
