BEGIN:VCALENDAR
VERSION:2.0
PRODID:-//NetAuktion//NONSGML NetAuktion//SV
METHOD:PUBLISH
BEGIN:VEVENT
UID:20260421T103236-1648476936-netauktion.se
DTSTAMP:20260421T103236
DTSTART:20181228T023600
DTEND:20181228T023900
SUMMARY:Netauktion objekt 3714-012 Auktionspåminnelse
DESCRIPTION:Länk till objektet du var intresserad av: https://staging.netauktion.se/auktion/produkt/kladskap-med-3-dorrar
END:VEVENT
END:VCALENDAR
