BEGIN:VCALENDAR
VERSION:2.0
PRODID:-//NetAuktion//NONSGML NetAuktion//SV
METHOD:PUBLISH
BEGIN:VEVENT
UID:20260421T104602-54124200-netauktion.se
DTSTAMP:20260421T104602
DTSTART:20181228T030400
DTEND:20181228T030700
SUMMARY:Netauktion objekt 3663-068 Auktionspåminnelse
DESCRIPTION:Länk till objektet du var intresserad av: https://staging.netauktion.se/auktion/produkt/kit-for-hemmagym-2
END:VEVENT
END:VCALENDAR
