BEGIN:VCALENDAR
VERSION:2.0
PRODID:-//NetAuktion//NONSGML NetAuktion//SV
METHOD:PUBLISH
BEGIN:VEVENT
UID:20260421T104535-1439481008-netauktion.se
DTSTAMP:20260421T104535
DTSTART:20181228T030900
DTEND:20181228T031200
SUMMARY:Netauktion objekt 3663-074 Auktionspåminnelse
DESCRIPTION:Länk till objektet du var intresserad av: https://staging.netauktion.se/auktion/produkt/tricepspress-nordic-gym-2
END:VEVENT
END:VCALENDAR
