BEGIN:VCALENDAR
VERSION:2.0
PRODID:-//NetAuktion//NONSGML NetAuktion//SV
METHOD:PUBLISH
BEGIN:VEVENT
UID:20260421T104459-1976492622-netauktion.se
DTSTAMP:20260421T104459
DTSTART:20181228T024900
DTEND:20181228T025200
SUMMARY:Netauktion objekt 3719-001 Auktionspåminnelse
DESCRIPTION:Länk till objektet du var intresserad av: https://staging.netauktion.se/auktion/produkt/ford-transit-dubbelhytt-nxc917-repobjekt
END:VEVENT
END:VCALENDAR
