BEGIN:VCALENDAR
VERSION:2.0
PRODID:-//NetAuktion//NONSGML NetAuktion//SV
METHOD:PUBLISH
BEGIN:VEVENT
UID:20260421T104356-966464320-netauktion.se
DTSTAMP:20260421T104356
DTSTART:20080924T012000
DTEND:20080924T012300
SUMMARY:Netauktion objekt 0097-023 Auktionspåminnelse
DESCRIPTION:Länk till objektet du var intresserad av: https://staging.netauktion.se/auktion/produkt/ljusbord-70x80cm
END:VEVENT
END:VCALENDAR
