BEGIN:VCALENDAR
VERSION:2.0
PRODID:-//NetAuktion//NONSGML NetAuktion//SV
METHOD:PUBLISH
BEGIN:VEVENT
UID:20260421T104430-1769145967-netauktion.se
DTSTAMP:20260421T104430
DTSTART:20080924T012100
DTEND:20080924T012400
SUMMARY:Netauktion objekt 0097-024 Auktionspåminnelse
DESCRIPTION:Länk till objektet du var intresserad av: https://staging.netauktion.se/auktion/produkt/comfortkyl-kylaggregat-ac-anl
END:VEVENT
END:VCALENDAR
