BEGIN:VCALENDAR
VERSION:2.0
PRODID:-//NetAuktion//NONSGML NetAuktion//SV
METHOD:PUBLISH
BEGIN:VEVENT
UID:20260421T102852-115344164-netauktion.se
DTSTAMP:20260421T102852
DTSTART:20250101T175700
DTEND:20250101T180000
SUMMARY:Netauktion objekt 3738-003 Auktionspåminnelse
DESCRIPTION:Länk till objektet du var intresserad av: https://staging.netauktion.se/auktion/produkt/gronsaksskarare-potis
END:VEVENT
END:VCALENDAR
