BEGIN:VCALENDAR
VERSION:2.0
PRODID:-//NetAuktion//NONSGML NetAuktion//SV
METHOD:PUBLISH
BEGIN:VEVENT
UID:20260421T104635-1674151740-netauktion.se
DTSTAMP:20260421T104635
DTSTART:20230119T200000
DTEND:20230119T200300
SUMMARY:Netauktion objekt 3481-005 Auktionspåminnelse
DESCRIPTION:Länk till objektet du var intresserad av: https://staging.netauktion.se/auktion/produkt/vattenbad-electrolux-8
END:VEVENT
END:VCALENDAR
