BEGIN:VCALENDAR
VERSION:2.0
PRODID:-//NetAuktion//NONSGML NetAuktion//SV
METHOD:PUBLISH
BEGIN:VEVENT
UID:20260421T103135-73162120-netauktion.se
DTSTAMP:20260421T103135
DTSTART:20230119T200000
DTEND:20230119T200300
SUMMARY:Netauktion objekt 3481-006 Auktionspåminnelse
DESCRIPTION:Länk till objektet du var intresserad av: https://staging.netauktion.se/auktion/produkt/pastakokeri-wery-3
END:VEVENT
END:VCALENDAR
