BEGIN:VCALENDAR
VERSION:2.0
PRODID:-//NetAuktion//NONSGML NetAuktion//SV
METHOD:PUBLISH
BEGIN:VEVENT
UID:20260421T104618-310816401-netauktion.se
DTSTAMP:20260421T104618
DTSTART:20190201T015600
DTEND:20190201T015900
SUMMARY:Netauktion objekt 3708-006 Auktionspåminnelse
DESCRIPTION:Länk till objektet du var intresserad av: https://staging.netauktion.se/auktion/produkt/nibbler-hitachi-cn18dsl-18v-naken-4
END:VEVENT
END:VCALENDAR
