BEGIN:VCALENDAR
VERSION:2.0
PRODID:-//NetAuktion//NONSGML NetAuktion//SV
METHOD:PUBLISH
BEGIN:VEVENT
UID:20260421T103005-1766736144-netauktion.se
DTSTAMP:20260421T103005
DTSTART:20190201T015800
DTEND:20190201T020100
SUMMARY:Netauktion objekt 3708-009 Auktionspåminnelse
DESCRIPTION:Länk till objektet du var intresserad av: https://staging.netauktion.se/auktion/produkt/platsax-hitachi-ce18dsl-18v-naken-6
END:VEVENT
END:VCALENDAR
