BEGIN:VCALENDAR
VERSION:2.0
PRODID:-//NetAuktion//NONSGML NetAuktion//SV
METHOD:PUBLISH
BEGIN:VEVENT
UID:20260421T104621-1376358779-netauktion.se
DTSTAMP:20260421T104621
DTSTART:20190201T020000
DTEND:20190201T020300
SUMMARY:Netauktion objekt 3708-013 Auktionspåminnelse
DESCRIPTION:Länk till objektet du var intresserad av: https://staging.netauktion.se/auktion/produkt/rakslip-gp5v-760w-hitachi
END:VEVENT
END:VCALENDAR
