BEGIN:VCALENDAR
VERSION:2.0
PRODID:-//NetAuktion//NONSGML NetAuktion//SV
METHOD:PUBLISH
BEGIN:VEVENT
UID:20260421T102952-1724644578-netauktion.se
DTSTAMP:20260421T102952
DTSTART:20190201T014200
DTEND:20190201T014500
SUMMARY:Netauktion objekt 3708-016 Auktionspåminnelse
DESCRIPTION:Länk till objektet du var intresserad av: https://staging.netauktion.se/auktion/produkt/cirkelsag-hitachi-c6ss-1050w-5
END:VEVENT
END:VCALENDAR
