BEGIN:VCALENDAR
VERSION:2.0
PRODID:-//NetAuktion//NONSGML NetAuktion//SV
METHOD:PUBLISH
BEGIN:VEVENT
UID:20260421T103237-229396885-netauktion.se
DTSTAMP:20260421T103237
DTSTART:20190201T020600
DTEND:20190201T020900
SUMMARY:Netauktion objekt 3708-021 Auktionspåminnelse
DESCRIPTION:Länk till objektet du var intresserad av: https://staging.netauktion.se/auktion/produkt/sticksag-hitachi-cj160va-800w-7
END:VEVENT
END:VCALENDAR
