BEGIN:VCALENDAR
VERSION:2.0
PRODID:-//NetAuktion//NONSGML NetAuktion//SV
METHOD:PUBLISH
BEGIN:VEVENT
UID:20260421T104615-404158753-netauktion.se
DTSTAMP:20260421T104615
DTSTART:20190201T015500
DTEND:20190201T015800
SUMMARY:Netauktion objekt 3708-027 Auktionspåminnelse
DESCRIPTION:Länk till objektet du var intresserad av: https://staging.netauktion.se/auktion/produkt/mutterdragare-hitachi-wr22se-850w-3
END:VEVENT
END:VCALENDAR
