BEGIN:VCALENDAR
VERSION:2.0
PRODID:-//NetAuktion//NONSGML NetAuktion//SV
METHOD:PUBLISH
BEGIN:VEVENT
UID:20260421T104601-357180019-netauktion.se
DTSTAMP:20260421T104601
DTSTART:20190201T020900
DTEND:20190201T021200
SUMMARY:Netauktion objekt 3708-028 Auktionspåminnelse
DESCRIPTION:Länk till objektet du var intresserad av: https://staging.netauktion.se/auktion/produkt/tigersag-hitachi-cr13vby-1150w
END:VEVENT
END:VCALENDAR
