BEGIN:VCALENDAR
VERSION:2.0
PRODID:-//NetAuktion//NONSGML NetAuktion//SV
METHOD:PUBLISH
BEGIN:VEVENT
UID:20260421T103030-309396293-netauktion.se
DTSTAMP:20260421T103030
DTSTART:20190201T014900
DTEND:20190201T015200
SUMMARY:Netauktion objekt 3708-029 Auktionspåminnelse
DESCRIPTION:Länk till objektet du var intresserad av: https://staging.netauktion.se/auktion/produkt/kombihammare-hitachi-dh28pmy-850w-5
END:VEVENT
END:VCALENDAR
