BEGIN:VCALENDAR
VERSION:2.0
PRODID:-//NetAuktion//NONSGML NetAuktion//SV
METHOD:PUBLISH
BEGIN:VEVENT
UID:20260421T104617-1812958893-netauktion.se
DTSTAMP:20260421T104617
DTSTART:20190201T020300
DTEND:20190201T020600
SUMMARY:Netauktion objekt 3708-034 Auktionspåminnelse
DESCRIPTION:Länk till objektet du var intresserad av: https://staging.netauktion.se/auktion/produkt/slagborrmaskin-dv16vss-600w-hitachi
END:VEVENT
END:VCALENDAR
