BEGIN:VCALENDAR
VERSION:2.0
PRODID:-//NetAuktion//NONSGML NetAuktion//SV
METHOD:PUBLISH
BEGIN:VEVENT
UID:20260421T104434-1254665192-netauktion.se
DTSTAMP:20260421T104434
DTSTART:20200418T010100
DTEND:20200418T010400
SUMMARY:Netauktion objekt 3752-002 Auktionspåminnelse
DESCRIPTION:Länk till objektet du var intresserad av: https://staging.netauktion.se/auktion/produkt/diagonalplog-snoplog-tellefsdal-ds-3600-p
END:VEVENT
END:VCALENDAR
