BEGIN:VCALENDAR
VERSION:2.0
PRODID:-//NetAuktion//NONSGML NetAuktion//SV
METHOD:PUBLISH
BEGIN:VEVENT
UID:20260421T103135-1225714435-netauktion.se
DTSTAMP:20260421T103135
DTSTART:20190131T024900
DTEND:20190131T025200
SUMMARY:Netauktion objekt 3643-147 Auktionspåminnelse
DESCRIPTION:Länk till objektet du var intresserad av: https://staging.netauktion.se/auktion/produkt/arbetsstol-12
END:VEVENT
END:VCALENDAR
