BEGIN:VCALENDAR
VERSION:2.0
PRODID:-//NetAuktion//NONSGML NetAuktion//SV
METHOD:PUBLISH
BEGIN:VEVENT
UID:20260421T104615-1269838110-netauktion.se
DTSTAMP:20260421T104615
DTSTART:20190131T025300
DTEND:20190131T025600
SUMMARY:Netauktion objekt 3643-148 Auktionspåminnelse
DESCRIPTION:Länk till objektet du var intresserad av: https://staging.netauktion.se/auktion/produkt/arbetsstol-11
END:VEVENT
END:VCALENDAR
