BEGIN:VCALENDAR
VERSION:2.0
PRODID:-//NetAuktion//NONSGML NetAuktion//SV
METHOD:PUBLISH
BEGIN:VEVENT
UID:20260421T103238-2019689408-netauktion.se
DTSTAMP:20260421T103238
DTSTART:20190131T025200
DTEND:20190131T025500
SUMMARY:Netauktion objekt 3643-150 Auktionspåminnelse
DESCRIPTION:Länk till objektet du var intresserad av: https://staging.netauktion.se/auktion/produkt/arbetsstol-14
END:VEVENT
END:VCALENDAR
