BEGIN:VCALENDAR
VERSION:2.0
PRODID:-//NetAuktion//NONSGML NetAuktion//SV
METHOD:PUBLISH
BEGIN:VEVENT
UID:20260421T104623-1857316147-netauktion.se
DTSTAMP:20260421T104623
DTSTART:20190131T024600
DTEND:20190131T024900
SUMMARY:Netauktion objekt 3643-153 Auktionspåminnelse
DESCRIPTION:Länk till objektet du var intresserad av: https://staging.netauktion.se/auktion/produkt/3st-arbetsstolar-fran-hag
END:VEVENT
END:VCALENDAR
