BEGIN:VCALENDAR
VERSION:2.0
PRODID:-//NetAuktion//NONSGML NetAuktion//SV
METHOD:PUBLISH
BEGIN:VEVENT
UID:20260421T103137-1776829859-netauktion.se
DTSTAMP:20260421T103137
DTSTART:20190201T013800
DTEND:20190201T014100
SUMMARY:Netauktion objekt 3708-036 Auktionspåminnelse
DESCRIPTION:Länk till objektet du var intresserad av: https://staging.netauktion.se/auktion/produkt/borrskruvdragare-hitachi-ds18dbsl-2x30ah
END:VEVENT
END:VCALENDAR
