BEGIN:VCALENDAR
VERSION:2.0
PRODID:-//NetAuktion//NONSGML NetAuktion//SV
METHOD:PUBLISH
BEGIN:VEVENT
UID:20260421T104619-602024801-netauktion.se
DTSTAMP:20260421T104619
DTSTART:20190201T015200
DTEND:20190201T015500
SUMMARY:Netauktion objekt 3708-038 Auktionspåminnelse
DESCRIPTION:Länk till objektet du var intresserad av: https://staging.netauktion.se/auktion/produkt/multiverktyg-hitachi-cv350v-350w-6
END:VEVENT
END:VCALENDAR
